3.2808000000
0.0000000000
0.0000000000
-3.2808000000
1605707.6404019073
2772805.3595997132
