3.2808000000
0.0000000000
0.0000000000
-3.2808000000
1572899.6404019073
2789209.3595997132
