3.2808000000
0.0000000000
0.0000000000
-3.2808000000
1638515.6404019073
2838421.3595997132
