3.2808000000
0.0000000000
0.0000000000
-3.2808000000
1556495.6404019073
2854825.3595997132
